BEGIN:VCALENDAR
VERSION:2.0
PRODID:SchoolNow
CALSCALE:GREGORIAN
BEGIN:VEVENT
UID:da94b424-d0ac-11ed-9e37-020f1021d75d
DTSTAMP:20230401T164713Z
SUMMARY:Child Abuse Prevention Month BLUE OUT Challenge
DESCRIPTION:APRIL 13\n\nBlue Out Thursday Challenge!\nWEAR BLUE to help rai
 se awareness about Child Abuse Prevention! Take photos and SHARE using has
 htag #StandUpforChildren or tag the @DiscoveryCenterSOSD Facebook page
URL;VALUE=URI:https://www.starkvillesd.com/calendar/3961788/child-abuse-pre
 vention-month-blue-out-challenge
DTSTART;VALUE=DATE:20230413
DTEND;VALUE=DATE:20230414
END:VEVENT
END:VCALENDAR
