BEGIN:VCALENDAR
VERSION:2.0
PRODID:SchoolNow
CALSCALE:GREGORIAN
BEGIN:VEVENT
UID:baffab3e-d3ed-11ed-a82c-026ed5e29e41
DTSTAMP:20230405T200911Z
SUMMARY:Partnership Singers Spring Concert
DESCRIPTION:Partnership Singers Spring Concert\n6:00pm\nFirst Baptist Churc
 h
LOCATION:First Baptist Church
URL;VALUE=URI:https://www.starkvillesd.com/calendar/3989433/partnership-sin
 gers-spring-concert
DTSTART:20230504T230000Z
DTEND:20230505T000000Z
END:VEVENT
END:VCALENDAR
