BEGIN:VCALENDAR
VERSION:2.0
PRODID:SchoolNow
CALSCALE:GREGORIAN
BEGIN:VEVENT
UID:ec666b9c-d4ae-11ed-9f52-0e2ad68e68f7
DTSTAMP:20230406T191207Z
SUMMARY:Armstrong Junior High Talent Show
DESCRIPTION:The talent show is open to the public. AJHS Student Council enc
 ourages viewers to bring a $5.00 donation. All donations will go towards p
 roviding the students of Armstrong with a dance at the end of the year.
LOCATION:Greensboro Center
URL;VALUE=URI:https://www.starkvillesd.com/calendar/3996152/armstrong-junio
 r-high-talent-show
DTSTART:20230411T230000Z
DTEND:20230412T000000Z
END:VEVENT
END:VCALENDAR
