BEGIN:VCALENDAR
VERSION:2.0
PRODID:SchoolNow
CALSCALE:GREGORIAN
BEGIN:VEVENT
UID:dd5cc8a6-d87a-11ed-b73d-02a0aaab52d1
DTSTAMP:20230411T150932Z
SUMMARY:SHS Theatre presents Matilda
DESCRIPTION:The award-winning SHS Theatre Troupe 1180 presents Matilda\n\nM
 ay 4\, 5 and 6 at 7:30pm\n\nMay 7 at 2:30pm\n\nTickets may be purchased at
  https://www.showtix4u.com/event-details/73312
LOCATION:SHS Auditorium
URL;VALUE=URI:https://www.starkvillesd.com/calendar/4027938/shs-theatre-pre
 sents-matilda-clone
DTSTART:20230506T003000Z
DTEND:20230506T023000Z
END:VEVENT
END:VCALENDAR
