BEGIN:VCALENDAR
VERSION:2.0
PRODID:SchoolNow
CALSCALE:GREGORIAN
BEGIN:VEVENT
UID:eed88c50-d87a-11ed-8b5b-02a0aaab52d1
DTSTAMP:20230411T151002Z
SUMMARY:SHS Theatre presents Matilda
DESCRIPTION:The award-winning SHS Theatre Troupe 1180 presents Matilda\n\nM
 ay 4\, 5 and 6 at 7:30pm\n\nMay 7 at 2:30pm\n\nTickets may be purchased at
  https://www.showtix4u.com/event-details/73312
LOCATION:SHS Auditorium
URL;VALUE=URI:https://www.starkvillesd.com/calendar/4027939/shs-theatre-pre
 sents-matilda-clone-clone
DTSTART:20230507T003000Z
DTEND:20230507T023000Z
END:VEVENT
END:VCALENDAR
