BEGIN:VCALENDAR
VERSION:2.0
PRODID:SchoolNow
CALSCALE:GREGORIAN
BEGIN:VEVENT
UID:06a23d54-d87b-11ed-9a97-02a0aaab52d1
DTSTAMP:20230411T151042Z
SUMMARY:SHS Theatre presents Matilda
DESCRIPTION:The award-winning SHS Theatre Troupe 1180 presents Matilda\n\nM
 ay 4\, 5 and 6 at 7:30pm\n\nMay 7 at 2:30pm\n\nTickets may be purchased at
  https://www.showtix4u.com/event-details/73312
LOCATION:SHS Auditorium
URL;VALUE=URI:https://www.starkvillesd.com/calendar/4027940/shs-theatre-pre
 sents-matilda-clone-clone-clone
DTSTART:20230507T193000Z
DTEND:20230507T213000Z
END:VEVENT
END:VCALENDAR
