BEGIN:VCALENDAR
VERSION:2.0
PRODID:SchoolNow
CALSCALE:GREGORIAN
BEGIN:VEVENT
UID:6ff1968a-d8d3-11ed-9e2c-02817f5a76d1
DTSTAMP:20230412T014334Z
SUMMARY:Junior Thespians presents Newsies Jr.
DESCRIPTION:Starkville Middle School Junior Thespians present Newsies Jr\n\
 nApril 25 & 27\n\n6:30pm\n\nGreensboro Auditorium\n\nTickets may be purcha
 sed at https://www.showtix4u.com/event-details/73729
LOCATION:Greensboro Auditorium
URL;VALUE=URI:https://www.starkvillesd.com/calendar/4030431/junior-thespian
 s-presents-newsies-jr-clone
DTSTART:20230427T233000Z
DTEND:20230428T013000Z
END:VEVENT
END:VCALENDAR
