BEGIN:VCALENDAR
VERSION:2.0
PRODID:SchoolNow
CALSCALE:GREGORIAN
BEGIN:VEVENT
UID:d5078a50-d961-11ed-9c41-0af83dc86165
DTSTAMP:20230412T184252Z
SUMMARY:May Board of Trustees Meeting
LOCATION:Greensboro Center
URL;VALUE=URI:https://www.starkvillesd.com/calendar/4035318/may-board-of-tr
 ustees-meeting
DTSTART:20230516T230000Z
DTEND:20230517T000000Z
END:VEVENT
END:VCALENDAR
