BEGIN:VCALENDAR
VERSION:2.0
PRODID:SchoolNow
CALSCALE:GREGORIAN
BEGIN:VEVENT
UID:d294036a-d962-11ed-b577-0ef9572e53e7
DTSTAMP:20230412T184958Z
SUMMARY:6th-8th Grade Spring Band Concert
DESCRIPTION:Join us for the Partnership and Armstrong Band Spring Concert o
 n May 8 at Partnership Middle School Gym.\n\n6:00pm - 6th grade band\n\n7:
 00pm - 7th & 8th grade band
LOCATION:Partnership Middle School Gym
URL;VALUE=URI:https://www.starkvillesd.com/calendar/4035319/6th-8th-grade-s
 pring-band-concert
DTSTART:20230508T230000Z
DTEND:20230509T003000Z
END:VEVENT
END:VCALENDAR
