BEGIN:VCALENDAR
VERSION:2.0
PRODID:SchoolNow
CALSCALE:GREGORIAN
BEGIN:VEVENT
UID:1e3ae760-d964-11ed-bfcc-0aa006e62e9f
DTSTAMP:20230412T185914Z
SUMMARY:SHS Band Spring Concert
DESCRIPTION:Join us for the Starkville High School Band Spring Concert on M
 ay 11 at 6:00pm at First Baptist Church.
LOCATION:First Baptist Church
URL;VALUE=URI:https://www.starkvillesd.com/calendar/4035322/shs-band-spring
 -concert
DTSTART:20230511T230000Z
DTEND:20230512T003000Z
END:VEVENT
END:VCALENDAR
