BEGIN:VCALENDAR
VERSION:2.0
PRODID:SchoolNow
CALSCALE:GREGORIAN
BEGIN:VEVENT
UID:3ac15fa0-dada-11ed-86bf-02e7d19daf6f
DTSTAMP:20230414T153714Z
SUMMARY:Jacket Volleyball Tryouts (rising 7-8th grade girls)
DESCRIPTION:Jacket Volleyball Tryouts for rising 7-8th grade girls\n\nMay 1
 -2\n4:30-7:00pm\nStarkville High School Gym\n\nAll required forms in Drago
 nfly should be complete before tryouts.\n\nPlease complete the following f
 orm if you plan to try out:\n\nhttps://docs.google.com/forms/d/e/1FAIpQLSd
 up-iQ-H127eDyR2hm9Br9OL44PEgm0bwHx1Ssl1QdS0EAzw/viewform?usp=sf_link
LOCATION:Starkville High School Gym
URL;VALUE=URI:https://www.starkvillesd.com/calendar/4049133/jacket-volleyba
 ll-tryouts-rising-7-8th-grade-girls-clone
DTSTART:20230502T213000Z
DTEND:20230503T000000Z
END:VEVENT
END:VCALENDAR
