BEGIN:VCALENDAR
VERSION:2.0
PRODID:SchoolNow
CALSCALE:GREGORIAN
BEGIN:VEVENT
UID:88cf11c4-dada-11ed-86c6-02e7d19daf6f
DTSTAMP:20230414T153925Z
SUMMARY:Jacket Volleyball Tryouts (rising 9-12th grade girls)
DESCRIPTION:Jacket Volleyball Tryouts for rising 9-12th grade girls\n\nMay 
 3-4\n4:30-7:30pm\nStarkville High School Gym\n\nAll required forms in Drag
 onfly should be complete before tryouts.\n\nPlease complete the following 
 form if you plan to try out:\n\nhttps://docs.google.com/forms/d/e/1FAIpQLS
 dup-iQ-H127eDyR2hm9Br9OL44PEgm0bwHx1Ssl1QdS0EAzw/viewform?usp=sf_link
LOCATION:Starkville High School Gym
URL;VALUE=URI:https://www.starkvillesd.com/calendar/4049136/jacket-volleyba
 ll-tryouts-rising-7-8th-grade-girls-clone-clone
DTSTART:20230504T213000Z
DTEND:20230505T003000Z
END:VEVENT
END:VCALENDAR
