BEGIN:VCALENDAR
VERSION:2.0
PRODID:SchoolNow
CALSCALE:GREGORIAN
BEGIN:VEVENT
UID:124e7096-e2e4-11ed-a96d-0223d048cc6f
DTSTAMP:20230424T210750Z
SUMMARY:Project PEACE: Effective Job Search Methods (Workshop)
DESCRIPTION:MAY 24\nEFFECTIVE JOB SEARCH METHODS\nWith Shenina Brown\n10:00
 am - 11:00am \nDiscovery Center\n1504 Louisville Street - Starkville\, MS\
 n\nLooking for a job? Join Project PEACE's\, Shenina Brown\, to discover k
 ey tactics to effective job searching!\n\nRegistration is required and fre
 e child care is provided with required forms. To register\, contact Shenin
 a Brown at 662.615.0033 or sbrown@starkvillesd.com\n\nFunded by Mississipp
 i Department of Human Services
LOCATION:Discovery Center
URL;VALUE=URI:https://www.starkvillesd.com/calendar/4118507/project-peace-e
 ffective-job-search-methods-workshop
DTSTART:20230524T150000Z
DTEND:20230524T160000Z
END:VEVENT
END:VCALENDAR
