BEGIN:VCALENDAR
VERSION:2.0
PRODID:SchoolNow
CALSCALE:GREGORIAN
BEGIN:VEVENT
UID:3d48b4f2-e472-11ed-aa8a-0aecd7a4d8c1
DTSTAMP:20230504T204532Z
SUMMARY:Jacket Soccer Tryouts (rising 7th-12th graders)
DESCRIPTION:Jacket Soccer Tryouts\n7th-12th graders\n\nMay 15-16\n\n4:15pm 
 - 5:30pm\n\nStarkville High School
LOCATION:Starkville High School
URL;VALUE=URI:https://www.starkvillesd.com/calendar/4132026/jacket-soccer-t
 ryouts-rising-7th-12th-graders
DTSTART:20230515T211500Z
DTEND:20230515T223000Z
END:VEVENT
END:VCALENDAR
