BEGIN:VCALENDAR
VERSION:2.0
PRODID:SchoolNow
CALSCALE:GREGORIAN
BEGIN:VEVENT
UID:6071bc30-e472-11ed-84c0-0aecd7a4d8c1
DTSTAMP:20230504T204616Z
SUMMARY:Jacket Soccer Tryouts (rising 7th-12th graders)
DESCRIPTION:Jacket Soccer Tryouts\n7th-12th graders\n\nMay 15-16\n\n4:15pm 
 - 5:30pm\n\nStarkville High School
LOCATION:Starkville High School
URL;VALUE=URI:https://www.starkvillesd.com/calendar/4132028/jacket-soccer-t
 ryouts-rising-7th-12th-graders-clone
DTSTART:20230516T211500Z
DTEND:20230516T223000Z
END:VEVENT
END:VCALENDAR
