BEGIN:VCALENDAR
VERSION:2.0
PRODID:SchoolNow
CALSCALE:GREGORIAN
BEGIN:VEVENT
UID:43be235c-e527-11ed-9363-0ae24a3a5c39
DTSTAMP:20230427T181352Z
SUMMARY:Armstrong Singers Spring Concert
DESCRIPTION:Armstrong Singers Spring Concert\nMay 2\n6:00pm\n​​​​
 ​​​First Baptist Church
LOCATION:First Baptist Church
URL;VALUE=URI:https://www.starkvillesd.com/calendar/4138583/armstrong-singe
 rs-spring-concert
DTSTART:20230502T230000Z
DTEND:20230503T000000Z
END:VEVENT
END:VCALENDAR
