BEGIN:VCALENDAR
VERSION:2.0
PRODID:SchoolNow
CALSCALE:GREGORIAN
BEGIN:VEVENT
UID:6e2130f8-e536-11ed-9c4a-0ac867d6e523
DTSTAMP:20230504T204857Z
SUMMARY:Jacket Basketball Girls Varsity Tryouts (rising 10th-12th graders)
DESCRIPTION:Jacket Basket Tryouts\nGirls Varsity\nrising 10th-12th graders\
 n4:30 - 6:00pm\n​​​​​​​SHS Gym
LOCATION:Starkville High School Gym
URL;VALUE=URI:https://www.starkvillesd.com/calendar/4138597/jacket-basketba
 ll-girls-varsity-tryouts-rising-10th-12th-graders-clone
DTSTART:20230511T213000Z
DTEND:20230511T230000Z
END:VEVENT
END:VCALENDAR
