BEGIN:VCALENDAR
VERSION:2.0
PRODID:SchoolNow
CALSCALE:GREGORIAN
BEGIN:VEVENT
UID:e15c7e74-e536-11ed-a291-0ac867d6e523
DTSTAMP:20230427T200539Z
SUMMARY:Jacket Basketball Boys Varsity Tryouts (rising 10th-12th graders)
DESCRIPTION:Jacket Basketball Tryouts\nVarsity Boys\nrising 10th-12th grade
 rs\n​​​​​​​SHS Gym
LOCATION:Starkville High School Gym
URL;VALUE=URI:https://www.starkvillesd.com/calendar/4138601/jacket-basketba
 ll-boys-varsity-tryouts-rising-10th-12th-graders-clone
DTSTART:20230516T210000Z
DTEND:20230516T223000Z
END:VEVENT
END:VCALENDAR
