BEGIN:VCALENDAR
VERSION:2.0
PRODID:SchoolNow
CALSCALE:GREGORIAN
BEGIN:VEVENT
UID:325d81ec-e537-11ed-865d-0ac867d6e523
DTSTAMP:20230515T134353Z
SUMMARY:Jacket Basketball Boys 7th-8th Grade Tryouts
DESCRIPTION:Jacket Basketball Tryouts\n7th-8th Grade BOYS\n​​​​​
 ​​Henderson Gym
LOCATION:Henderson Gym
URL;VALUE=URI:https://www.starkvillesd.com/calendar/4138603/jacket-basketba
 ll-boys-7th-8th-grade-tryouts
DTSTART:20230522T213000Z
DTEND:20230522T230000Z
END:VEVENT
END:VCALENDAR
