BEGIN:VCALENDAR
VERSION:2.0
PRODID:SchoolNow
CALSCALE:GREGORIAN
BEGIN:VEVENT
UID:53875712-e537-11ed-97f4-0ac867d6e523
DTSTAMP:20230515T134452Z
SUMMARY:Jacket Basketball Boys 7th-8th Grade Tryouts
DESCRIPTION:Jacket Basketball Tryouts\n7th-8th Grade BOYS\n​​​​​
 ​​Henderson Gym
LOCATION:Henderson Gym
URL;VALUE=URI:https://www.starkvillesd.com/calendar/4138605/jacket-basketba
 ll-boys-7th-8th-grade-tryouts-clone
DTSTART:20230523T213000Z
DTEND:20230523T230000Z
END:VEVENT
END:VCALENDAR
