BEGIN:VCALENDAR
VERSION:2.0
PRODID:SchoolNow
CALSCALE:GREGORIAN
BEGIN:VEVENT
UID:8fdf2d16-e537-11ed-b079-0ac867d6e523
DTSTAMP:20230515T134535Z
SUMMARY:Jacket Basketball 9th Grade Boys Tryouts
DESCRIPTION:Jacket Basketball Tryouts\n9th Grade BOYS\n​​​​​​
 ​Henderson Gym
LOCATION:Henderson Gym
URL;VALUE=URI:https://www.starkvillesd.com/calendar/4138607/jacket-basketba
 ll-9th-grade-boys-tryouts
DTSTART:20230523T230000Z
DTEND:20230524T003000Z
END:VEVENT
END:VCALENDAR
