BEGIN:VCALENDAR
VERSION:2.0
PRODID:SchoolNow
CALSCALE:GREGORIAN
BEGIN:VEVENT
UID:b1142d42-e537-11ed-a55a-0ac867d6e523
DTSTAMP:20230515T134603Z
SUMMARY:Jacket Basketball 9th Grade Boys Tryouts
DESCRIPTION:Jacket Basketball Tryouts\n9th Grade BOYS\n​​​​​​
 ​Henderson Gym
LOCATION:Henderson Gym
URL;VALUE=URI:https://www.starkvillesd.com/calendar/4138610/jacket-basketba
 ll-9th-grade-boys-tryouts-clone
DTSTART:20230524T230000Z
DTEND:20230525T003000Z
END:VEVENT
END:VCALENDAR
