BEGIN:VCALENDAR
VERSION:2.0
PRODID:SchoolNow
CALSCALE:GREGORIAN
BEGIN:VEVENT
UID:1bb8dd00-e538-11ed-bd69-0ac867d6e523
DTSTAMP:20230427T201426Z
SUMMARY:Beginner Tennis Clinic (2nd-6th graders)
DESCRIPTION:Starkville High School Tennis Team will host a FREE Beginner Te
 nnis Clinic\nTuesday\, May 16\n5:00 - 6:00pm\n​​​​​​​SHS Ten
 nis Courts
LOCATION:SHS Tennis Courts
URL;VALUE=URI:https://www.starkvillesd.com/calendar/4138612/beginner-tennis
 -clinic-2nd-6th-graders
DTSTART:20230516T220000Z
DTEND:20230516T230000Z
END:VEVENT
END:VCALENDAR
