BEGIN:VCALENDAR
VERSION:2.0
PRODID:SchoolNow
CALSCALE:GREGORIAN
BEGIN:VEVENT
UID:a39c6eaa-eea5-11ed-8523-02552cb0eca7
DTSTAMP:20230509T201110Z
SUMMARY:Jacket Golf Tryouts
DESCRIPTION:Jacket Golf Tryouts\nMay 17-18\n4:30pm\n​​​​​​​St
 arkville Country Club
LOCATION:Starkville Country Club
URL;VALUE=URI:https://www.starkvillesd.com/calendar/4212793/jacket-golf-try
 outs
DTSTART:20230517T213000Z
DTEND:20230517T233000Z
END:VEVENT
END:VCALENDAR
