BEGIN:VCALENDAR
VERSION:2.0
PRODID:SchoolNow
CALSCALE:GREGORIAN
BEGIN:VEVENT
UID:b0bf8a5e-eea5-11ed-8cb4-02552cb0eca7
DTSTAMP:20230509T201132Z
SUMMARY:Jacket Golf Tryouts
DESCRIPTION:Jacket Golf Tryouts\nMay 17-18\n4:30pm\n​​​​​​​St
 arkville Country Club
LOCATION:Starkville Country Club
URL;VALUE=URI:https://www.starkvillesd.com/calendar/4212794/jacket-golf-try
 outs-clone
DTSTART:20230518T213000Z
DTEND:20230518T233000Z
END:VEVENT
END:VCALENDAR
