BEGIN:VCALENDAR
VERSION:2.0
PRODID:SchoolNow
CALSCALE:GREGORIAN
BEGIN:VEVENT
UID:51d4114e-eeab-11ed-84ed-0a6e38864f39
DTSTAMP:20230509T205149Z
SUMMARY:HWS Elementary 2nd Grade Open House
LOCATION:Henderson Ward Stewart
URL;VALUE=URI:https://www.starkvillesd.com/calendar/4212804/hws-elementary-
 2nd-grade-open-house
DTSTART:20230525T213000Z
DTEND:20230525T230000Z
END:VEVENT
END:VCALENDAR
