BEGIN:VCALENDAR
VERSION:2.0
PRODID:SchoolNow
CALSCALE:GREGORIAN
BEGIN:VEVENT
UID:d2e61e86-f42c-11ed-b70f-027485259c67
DTSTAMP:20230516T210127Z
SUMMARY:Jacket Cross Country Interest Meeting (rising 7th-12th graders)
DESCRIPTION:Jacket CROSS COUNTRY Interest Meeting\n(rising 7th-12th graders
 )\nMay 22\n5:30pm\n​​​​​​​Partnership Middle School Cafeteri
 a
LOCATION:Partnership Middle School Cafeteria
URL;VALUE=URI:https://www.starkvillesd.com/calendar/4252097/jacket-cross-co
 untry-interest-meeting-rising-7th-12th-graders
DTSTART:20230522T223000Z
DTEND:20230522T233000Z
END:VEVENT
END:VCALENDAR
