BEGIN:VCALENDAR
VERSION:2.0
PRODID:SchoolNow
CALSCALE:GREGORIAN
BEGIN:VEVENT
UID:1d9f302e-f5b4-11ed-b555-0a9776b685a9
DTSTAMP:20230518T194225Z
SUMMARY:Jacket Soccer Tryouts (rising 7th-12th graders) *Rescheduled from r
 ain cancelation
DESCRIPTION:Jacket SOCCER Tryouts\n\n(rising 7th-12th graders)\n\n*Reschedu
 led from the weather-related cancellation on May 16\n\nMay 24\n\n4:15pm -
  5:00pm\n\nStarkville High School
LOCATION:Starkville High School
URL;VALUE=URI:https://www.starkvillesd.com/calendar/4264308/jacket-soccer-t
 ryouts-rising-7th-12th-graders-rescheduled-from-rain-cancelation
DTSTART:20230524T211500Z
DTEND:20230524T220000Z
END:VEVENT
END:VCALENDAR
