BEGIN:VCALENDAR
VERSION:2.0
PRODID:SchoolNow
CALSCALE:GREGORIAN
BEGIN:VEVENT
UID:5f0d35a0-03c0-11ee-8184-0e6a0fdc09f5
DTSTAMP:20230605T164525Z
SUMMARY:SOSD Board Budget Work Session
DESCRIPTION:Located in Main Board Room
LOCATION:Greensboro Center
URL;VALUE=URI:https://www.starkvillesd.com/calendar/4353629/sosd-board-budg
 et-work-session
DTSTART:20230608T210000Z
DTEND:20230608T223000Z
END:VEVENT
END:VCALENDAR
