BEGIN:VCALENDAR
VERSION:2.0
PRODID:SchoolNow
CALSCALE:GREGORIAN
BEGIN:VEVENT
UID:87650a14-03c0-11ee-ab6c-0e6a0fdc09f5
DTSTAMP:20230605T164633Z
SUMMARY:SOSD Board of Trustees Meeting
DESCRIPTION:Located in Main Board Room
LOCATION:Greensboro Center
URL;VALUE=URI:https://www.starkvillesd.com/calendar/4353638/sosd-board-of-t
 rustees-meeting
DTSTART:20230608T230000Z
DTEND:20230609T003000Z
END:VEVENT
END:VCALENDAR
