BEGIN:VCALENDAR
VERSION:2.0
PRODID:SchoolNow
CALSCALE:GREGORIAN
BEGIN:VEVENT
UID:10302504-03c1-11ee-a9a8-0e6a0fdc09f5
DTSTAMP:20230605T165023Z
SUMMARY:Jacket Baseball: Press Conference
DESCRIPTION:Please join us for a Jacket Baseball Press Conference on Tuesda
 y\, June 13 at 5:30pm at Greensboro Auditorium to introduce Coach Mark Mon
 aghan\, the new Jacket Baseball Head Coach.\nFamilies and media are invite
 d to meet Coach Monaghan and the 2023-2024 Jacket Baseball staff and famil
 ies.
LOCATION:Greensboro Auditorium
URL;VALUE=URI:https://www.starkvillesd.com/calendar/4353741/jacket-baseball
 -press-conference
DTSTART:20230613T223000Z
DTEND:20230613T233000Z
END:VEVENT
END:VCALENDAR
