BEGIN:VCALENDAR
VERSION:2.0
PRODID:SchoolNow
CALSCALE:GREGORIAN
BEGIN:VEVENT
UID:5b70fbf6-03c1-11ee-b6f1-0e6a0fdc09f5
DTSTAMP:20230605T165229Z
SUMMARY:Jacket Thrive Summer Intersession
URL;VALUE=URI:https://www.starkvillesd.com/calendar/4353760/jacket-thrive-s
 ummer-intersession
DTSTART;VALUE=DATE:20230612
DTEND;VALUE=DATE:20230617
END:VEVENT
END:VCALENDAR
