BEGIN:VCALENDAR
VERSION:2.0
PRODID:SchoolNow
CALSCALE:GREGORIAN
BEGIN:VEVENT
UID:8be7876e-03c1-11ee-858f-0e6a0fdc09f5
DTSTAMP:20230605T165350Z
SUMMARY:Jacket Thrive Summer Intersession
URL;VALUE=URI:https://www.starkvillesd.com/calendar/4353761/jacket-thrive-s
 ummer-intersession
DTSTART;VALUE=DATE:20230620
DTEND;VALUE=DATE:20230624
END:VEVENT
END:VCALENDAR
