BEGIN:VCALENDAR
VERSION:2.0
PRODID:SchoolNow
CALSCALE:GREGORIAN
BEGIN:VEVENT
UID:c74b905c-03c1-11ee-9435-0e6a0fdc09f5
DTSTAMP:20230605T165530Z
SUMMARY:Juneteenth Holiday: All SOSD Schools & Offices Closed
DESCRIPTION:All schools and offices in the Starkville Oktibbeha School Dist
 rict will be closed for the Juneteenth Holiday.
URL;VALUE=URI:https://www.starkvillesd.com/calendar/4353762/juneteenth-holi
 day-all-sosd-schools-offices-closed
DTSTART;VALUE=DATE:20230619
DTEND;VALUE=DATE:20230620
END:VEVENT
END:VCALENDAR
