BEGIN:VCALENDAR
VERSION:2.0
PRODID:SchoolNow
CALSCALE:GREGORIAN
BEGIN:VEVENT
UID:a9f1e224-04c3-11ee-8d39-021f1b36993f
DTSTAMP:20230606T234131Z
SUMMARY:Project Care: Free Childbirth Classes
DESCRIPTION:Are you expecting? Discovery Center's Project CARE is hosting f
 ree Childbirth Classes this August!\n\nMark your calendars & join us at Di
 scovery Center for three sessions with healthcare professionals to learn a
 bout pregnancy\, childbirth\, infant nutrition\, breastfeeding\, caring fo
 r your baby and more! All expecting parents are welcome!\n\nAUGUST 1\nMoth
 er & Infant Bonding and Breastfeeding\nPresented by Nadia McCleland\nLa Le
 che League Leader\n\nAUGUST 8\nPregnancy & Childbirth\nPresented by Doroth
 y Clowers\n\nAUGUST 15\nInfant and Childcare\nPresented by Katie Buys Fami
 ly and Mental Health Nurse Practitioner\n\nREGISTER NOW to save your spot 
 by contacting Roy Ann Bell at 662.615.0033 or 662.320.4607
LOCATION:Discovery Center
URL;VALUE=URI:https://www.starkvillesd.com/calendar/4360485/project-care-fr
 ee-childbirth-classes-clone-clone
DTSTART:20230815T223000Z
DTEND:20230816T000000Z
END:VEVENT
END:VCALENDAR
