BEGIN:VCALENDAR
VERSION:2.0
PRODID:SchoolNow
CALSCALE:GREGORIAN
BEGIN:VEVENT
UID:5736e164-04c4-11ee-b19f-021f1b36993f
DTSTAMP:20230606T234621Z
SUMMARY:Project CARE: Dino Days
LOCATION:Discovery Center
URL;VALUE=URI:https://www.starkvillesd.com/calendar/4360487/project-care-di
 no-days
DTSTART:20230613T150000Z
DTEND:20230613T170000Z
END:VEVENT
END:VCALENDAR
