BEGIN:VCALENDAR
VERSION:2.0
PRODID:SchoolNow
CALSCALE:GREGORIAN
BEGIN:VEVENT
UID:55d213be-04c6-11ee-ab88-0e1441662967
DTSTAMP:20230607T000038Z
SUMMARY:Project CARE: STEAM Days
LOCATION:Discovery Center
URL;VALUE=URI:https://www.starkvillesd.com/calendar/4360494/project-care-st
 eam-days
DTSTART:20230620T150000Z
DTEND:20230620T170000Z
END:VEVENT
END:VCALENDAR
