BEGIN:VCALENDAR
VERSION:2.0
PRODID:SchoolNow
CALSCALE:GREGORIAN
BEGIN:VEVENT
UID:76e13602-04c6-11ee-8442-0e1441662967
DTSTAMP:20230607T000133Z
SUMMARY:Project CARE: STEAM Days
LOCATION:Discovery Center
URL;VALUE=URI:https://www.starkvillesd.com/calendar/4360496/project-care-st
 eam-days-clone
DTSTART:20230621T150000Z
DTEND:20230621T170000Z
END:VEVENT
END:VCALENDAR
