BEGIN:VCALENDAR
VERSION:2.0
PRODID:SchoolNow
CALSCALE:GREGORIAN
BEGIN:VEVENT
UID:53b84b14-0572-11ee-9fba-0acc275915dd
DTSTAMP:20230629T212832Z
SUMMARY:Independence Day Holiday: All SOSD Schools and Offices Closed
DESCRIPTION:All schools and offices in the Starkville Oktibbeha School Dist
 rict will be closed for the Independence Day holiday.
URL;VALUE=URI:https://www.starkvillesd.com/calendar/4363726/independence-da
 y-holiday-all-sosd-schools-and-offices-closed
DTSTART;VALUE=DATE:20230703
DTEND;VALUE=DATE:20230705
END:VEVENT
END:VCALENDAR
