BEGIN:VCALENDAR
VERSION:2.0
PRODID:SchoolNow
CALSCALE:GREGORIAN
BEGIN:VEVENT
UID:8ca625cc-0572-11ee-b14a-0acc275915dd
DTSTAMP:20230607T203323Z
SUMMARY:Labor Day Holiday: All SOSD Schools and Offices Closed
DESCRIPTION:All schools and offices in the Starkville Oktibbeha School Dist
 rict will be closed for the Labor Day holiday.
URL;VALUE=URI:https://www.starkvillesd.com/calendar/4363727/labor-day-holid
 ay-all-sosd-schools-and-offices-closed
DTSTART;VALUE=DATE:20230904
DTEND;VALUE=DATE:20230905
END:VEVENT
END:VCALENDAR
