BEGIN:VCALENDAR
VERSION:2.0
PRODID:SchoolNow
CALSCALE:GREGORIAN
BEGIN:VEVENT
UID:cbbb468e-0572-11ee-bf2f-0acc275915dd
DTSTAMP:20230607T203509Z
SUMMARY:Fall Break: All SOSD Schools and Offices Closed
DESCRIPTION:All schools and offices in the Starkville Oktibbeha School Dist
 rict will be closed for Fall Break.
URL;VALUE=URI:https://www.starkvillesd.com/calendar/4363728/fall-break-all-
 sosd-schools-and-offices-closed
DTSTART;VALUE=DATE:20231012
DTEND;VALUE=DATE:20231014
END:VEVENT
END:VCALENDAR
