BEGIN:VCALENDAR
VERSION:2.0
PRODID:SchoolNow
CALSCALE:GREGORIAN
BEGIN:VEVENT
UID:c179abe6-0574-11ee-8d28-0acc275915dd
DTSTAMP:20230607T204911Z
SUMMARY:First Day for New Teachers
URL;VALUE=URI:https://www.starkvillesd.com/calendar/4363739/first-day-for-n
 ew-teachers
DTSTART;VALUE=DATE:20230718
DTEND;VALUE=DATE:20230719
END:VEVENT
END:VCALENDAR
