BEGIN:VCALENDAR
VERSION:2.0
PRODID:SchoolNow
CALSCALE:GREGORIAN
BEGIN:VEVENT
UID:dce8563e-0574-11ee-a1af-0acc275915dd
DTSTAMP:20230607T204957Z
SUMMARY:First Day for Returning Teachers
URL;VALUE=URI:https://www.starkvillesd.com/calendar/4363740/first-day-for-r
 eturning-teachers
DTSTART;VALUE=DATE:20230719
DTEND;VALUE=DATE:20230720
END:VEVENT
END:VCALENDAR
