BEGIN:VCALENDAR
VERSION:2.0
PRODID:SchoolNow
CALSCALE:GREGORIAN
BEGIN:VEVENT
UID:010d8796-0575-11ee-8dd6-0acc275915dd
DTSTAMP:20230607T205058Z
SUMMARY:First Day of School for Students
URL;VALUE=URI:https://www.starkvillesd.com/calendar/4363741/first-day-of-sc
 hool-for-students
DTSTART;VALUE=DATE:20230725
DTEND;VALUE=DATE:20230726
END:VEVENT
END:VCALENDAR
