BEGIN:VCALENDAR
VERSION:2.0
PRODID:SchoolNow
CALSCALE:GREGORIAN
BEGIN:VEVENT
UID:4400d1d4-0575-11ee-8794-0acc275915dd
DTSTAMP:20230607T205250Z
SUMMARY:Parent Teacher Conference Day: No School for Students
DESCRIPTION:Students do not report to school on August 23. SOSD will host P
 arent Teacher Conference Day. Please watch for details from your child's t
 eachers about how to schedule a conference.
URL;VALUE=URI:https://www.starkvillesd.com/calendar/4363743/parent-teacher-
 conference-day-no-school-for-students
DTSTART;VALUE=DATE:20230823
DTEND;VALUE=DATE:20230824
END:VEVENT
END:VCALENDAR
