BEGIN:VCALENDAR
VERSION:2.0
PRODID:SchoolNow
CALSCALE:GREGORIAN
BEGIN:VEVENT
UID:d1e226b0-0575-11ee-861a-0acc275915dd
DTSTAMP:20230607T205648Z
SUMMARY:Secondary 60% Day (grades 6-12)
DESCRIPTION:Students in grades 6-12 will operate on a 60% day schedule. Ple
 ase visit https://www.starkvillesd.com/parents/school-day-opening-closing
 -times for schedule times.
URL;VALUE=URI:https://www.starkvillesd.com/calendar/4363744/secondary-60-da
 y-grades-6-12
DTSTART;VALUE=DATE:20230920
DTEND;VALUE=DATE:20230921
END:VEVENT
END:VCALENDAR
