BEGIN:VCALENDAR
VERSION:2.0
PRODID:SchoolNow
CALSCALE:GREGORIAN
BEGIN:VEVENT
UID:20565edc-0577-11ee-8afe-0a708002cd73
DTSTAMP:20230607T210609Z
SUMMARY:Fall Intersession
URL;VALUE=URI:https://www.starkvillesd.com/calendar/4363783/fall-intersessi
 on
DTSTART;VALUE=DATE:20231002
DTEND;VALUE=DATE:20231007
END:VEVENT
END:VCALENDAR
