BEGIN:VCALENDAR
VERSION:2.0
PRODID:SchoolNow
CALSCALE:GREGORIAN
BEGIN:VEVENT
UID:3b74c442-0577-11ee-b7f7-0a708002cd73
DTSTAMP:20230607T210655Z
SUMMARY:Fall Intersession
URL;VALUE=URI:https://www.starkvillesd.com/calendar/4363784/fall-intersessi
 on
DTSTART;VALUE=DATE:20231009
DTEND;VALUE=DATE:20231012
END:VEVENT
END:VCALENDAR
