BEGIN:VCALENDAR
VERSION:2.0
PRODID:SchoolNow
CALSCALE:GREGORIAN
BEGIN:VEVENT
UID:d2d33bf4-062e-11ee-81e2-0ac831b7ce4d
DTSTAMP:20230608T190107Z
SUMMARY:Project CARE: Dino Days
LOCATION:Discovery Center
URL;VALUE=URI:https://www.starkvillesd.com/calendar/4371806/project-care-di
 no-days-clone
DTSTART:20230614T150000Z
DTEND:20230614T170000Z
END:VEVENT
END:VCALENDAR
