BEGIN:VCALENDAR
VERSION:2.0
PRODID:SchoolNow
CALSCALE:GREGORIAN
BEGIN:VEVENT
UID:116542f8-0630-11ee-995b-0258b6cadbf7
DTSTAMP:20230608T191001Z
SUMMARY:Discovery Center: Back to School Bash
DESCRIPTION:Save the Date! Discovery Center will host our annual drive-thru
  BACK TO SCHOOL BASH from 10am until 12pm on Saturday\, July 15! Stop by f
 or...
LOCATION:Discovery Center
URL;VALUE=URI:https://www.starkvillesd.com/calendar/4371808/discovery-cente
 r-back-to-school-bash
DTSTART:20230715T150000Z
DTEND:20230715T170000Z
END:VEVENT
END:VCALENDAR
